﻿BEGIN:VCALENDAR
VERSION:2.0
PRODID:-//PEJ. TNC(A&amp;A) UTeM - ECPv6.15.18//NONSGML v1.0//EN
CALSCALE:GREGORIAN
METHOD:PUBLISH
X-WR-CALNAME:PEJ. TNC(A&amp;A) UTeM
X-ORIGINAL-URL:https://pejtncaa.utem.edu.my
X-WR-CALDESC:Events for PEJ. TNC(A&amp;A) UTeM
REFRESH-INTERVAL;VALUE=DURATION:PT1H
X-Robots-Tag:noindex
X-PUBLISHED-TTL:PT1H
BEGIN:VTIMEZONE
TZID:Asia/Kuala_Lumpur
BEGIN:STANDARD
TZOFFSETFROM:+0800
TZOFFSETTO:+0800
TZNAME:+08
DTSTART:20180101T000000
END:STANDARD
END:VTIMEZONE
BEGIN:VEVENT
DTSTART;TZID=Asia/Kuala_Lumpur:20220120T140000
DTEND;TZID=Asia/Kuala_Lumpur:20220120T163000
DTSTAMP:20260420T140003
CREATED:20220114T074556Z
LAST-MODIFIED:20220114T075038Z
UID:1165-1642687200-1642696200@pejtncaa.utem.edu.my
SUMMARY:MEMORANDUM OF AGREEMENT (MoA) SIGNING CEREMONY
DESCRIPTION:Memorandum of Agreement (MoA) Signing Ceremony \nUniversiti Teknikal Malaysia Melaka\, Malaysia \nand \nZhongxing Education Management Co. Ltd.\, Wuxi (ZEM)
URL:https://pejtncaa.utem.edu.my/event/memorandum-of-agreement-moa-signing-ceremony/
END:VEVENT
BEGIN:VEVENT
DTSTART;VALUE=DATE:20220120
DTEND;VALUE=DATE:20220121
DTSTAMP:20260420T140003
CREATED:20220114T083502Z
LAST-MODIFIED:20220114T083502Z
UID:1202-1642636800-1642723199@pejtncaa.utem.edu.my
SUMMARY:MESYUARAT PRA SENAT
DESCRIPTION:
URL:https://pejtncaa.utem.edu.my/event/mesyuarat-pra-senat/
END:VEVENT
BEGIN:VEVENT
DTSTART;VALUE=DATE:20220113
DTEND;VALUE=DATE:20220114
DTSTAMP:20260420T140003
CREATED:20220114T082722Z
LAST-MODIFIED:20220114T082722Z
UID:1188-1642032000-1642118399@pejtncaa.utem.edu.my
SUMMARY:MESYUARAT JK TETAP SENAT PERANCANGAN AKADEMIK (JKTSPA)
DESCRIPTION:
URL:https://pejtncaa.utem.edu.my/event/mesyuarat-jk-tetap-senat-perancangan-akademik-jktspa/
END:VEVENT
BEGIN:VEVENT
DTSTART;TZID=Asia/Kuala_Lumpur:20220112T140000
DTEND;TZID=Asia/Kuala_Lumpur:20220113T170000
DTSTAMP:20260420T140003
CREATED:20211223T014220Z
LAST-MODIFIED:20211223T014220Z
UID:1146-1641996000-1642093200@pejtncaa.utem.edu.my
SUMMARY:BENGKEL PENCAPAIAN SEVEN STRATEGICS GOALS UNIVERSITI TEKNIKAL MALAYSIA MELAKA  (SSG GOALS 1) PEJABAT TIMBALAN NAIB CANSELOR  (A&A))
DESCRIPTION:Assalammualaikum wbt\, \nSukacita dimaklumkan bahawa Bengkel Pencapaian Seven Strategics Goals UTeM (SSG Goals 1) Pejabat Timbalan Naib Canselor (Akademik & Antarabangsa) akan diadakan seperti maklumat berikut; \nTarikh : 12-13 Januari 2022 (Rabu & Khamis) \nMasa: 2.30 petang-5.00 petang \nTempat : Dewan Jamuan Auditorium\, Canselori\, Kampus Induk UTeM \nUntuk makluman\, Bengkel pada 12 Januari 2022 (Rabu) akan melibatkan fakulti-fakulti manakala bengkel pada 13 Januari 2022 (Khamis) akan melibatkan peserta selain dari fakulti. \nSekian untuk makluman\, terima kasih.
URL:https://pejtncaa.utem.edu.my/event/bengkel-pencapaian-seven-strategics-goals-universiti-teknikal-malaysia-melaka-ssg-goals-1-pejabat-timbalan-naib-canselor-aa/
END:VEVENT
BEGIN:VEVENT
DTSTART;VALUE=DATE:20220112
DTEND;VALUE=DATE:20220124
DTSTAMP:20260420T140003
CREATED:20220114T074154Z
LAST-MODIFIED:20220114T074240Z
UID:1162-1641945600-1642982399@pejtncaa.utem.edu.my
SUMMARY:PEMBUKAAN TEACHING PLAN AKHIRAN BAGI SEMESTER 1 SESI 2020/2021
DESCRIPTION:
URL:https://pejtncaa.utem.edu.my/event/pembukaan-teaching-plan-akhiran-bagi-semester-1-sesi-2020-2021/
ATTACH;FMTTYPE=image/jpeg:https://pejtncaa.utem.edu.my/wp-content/uploads/TEACHING-PLAN-2021_2022-2.jpeg
END:VEVENT
BEGIN:VEVENT
DTSTART;VALUE=DATE:20220106
DTEND;VALUE=DATE:20220107
DTSTAMP:20260420T140003
CREATED:20220114T082251Z
LAST-MODIFIED:20220114T082251Z
UID:1176-1641427200-1641513599@pejtncaa.utem.edu.my
SUMMARY:MESYUARAT JK TETAP SENAT HAL EHWAL AKADEMIK (JKTSHEA)
DESCRIPTION:
URL:https://pejtncaa.utem.edu.my/event/mesyuarat-jk-tetap-senat-hal-ehwal-akademik-jktshea/
END:VEVENT
BEGIN:VEVENT
DTSTART;TZID=Asia/Kuala_Lumpur:20220105T100000
DTEND;TZID=Asia/Kuala_Lumpur:20220105T123000
DTSTAMP:20260420T140003
CREATED:20211223T012811Z
LAST-MODIFIED:20211223T012811Z
UID:1143-1641376800-1641385800@pejtncaa.utem.edu.my
SUMMARY:PEMBENTANGAN PELAN PERANCANGAN PEJABAT TNC (A&A) OLEH TIMB. PENDAFTAR\, PEJABAT TNC (A&A) DAN MAJLIS PENGHARGAAN KEPADA MANTAN STAF PEJABAT TNC (A&A)
DESCRIPTION:PEMBENTANGAN PELAN PERANCANGAN PEJABAT TNC (A&A) OLEH TIMBALAN PENDAFTAR\, PEJABAT TNC (A&A) \nDengan segala hormatnya perkara di atas adalah dirujuk. \nAdalah dimaklumkan bahawa Timbalan Pendaftar Pejabat TNC (A&A) akan membentangkan Pelan Perancangan Pejabat TNC (A&A) mengikut ketetapan berikut : \nTarikh/Hari  :           5 Januari 2022 (Rabu) \nMasa            :           10.00 pagi – 12.30 tengah hari \nTempat        :           Bilik Mesyuarat Pejabat TNC (A&A) \nSekian\, terima kasih
URL:https://pejtncaa.utem.edu.my/event/pembentangan-pelan-perancangan-pejabat-tnc-aa-oleh-timb-pendaftar-pejabat-tnc-aa-dan-majlis-penghargaan-kepada-mantan-staf-pejabat-tnc-aa/
END:VEVENT
BEGIN:VEVENT
DTSTART;VALUE=DATE:20211228
DTEND;VALUE=DATE:20211229
DTSTAMP:20260420T140003
CREATED:20211210T023149Z
LAST-MODIFIED:20211210T023149Z
UID:1126-1640649600-1640735999@pejtncaa.utem.edu.my
SUMMARY:BENGKEL CANVA DAN PENGGUNAAN MEVO KAMERA
DESCRIPTION:
URL:https://pejtncaa.utem.edu.my/event/bengkel-canva-dan-penggunaan-mevo-kamera/
END:VEVENT
BEGIN:VEVENT
DTSTART;VALUE=DATE:20211225
DTEND;VALUE=DATE:20211226
DTSTAMP:20260420T140003
CREATED:20211210T023322Z
LAST-MODIFIED:20211210T023322Z
UID:1128-1640390400-1640476799@pejtncaa.utem.edu.my
SUMMARY:HARI KRISMAS
DESCRIPTION:CUTI UMUM
URL:https://pejtncaa.utem.edu.my/event/hari-krismas/
END:VEVENT
BEGIN:VEVENT
DTSTART;TZID=Asia/Kuala_Lumpur:20211213T110000
DTEND;TZID=Asia/Kuala_Lumpur:20211213T123000
DTSTAMP:20260420T140003
CREATED:20211210T022534Z
LAST-MODIFIED:20211210T022541Z
UID:1118-1639393200-1639398600@pejtncaa.utem.edu.my
SUMMARY:BRIEFING ON ENTRY AND MOVEMENT PROCEDURES FOR INTERNATIONAL STUDENTS & STAFF
DESCRIPTION:Assalammualaikum wbt\,\nGood day!\n\n\nLet's Join Us!!\n\n\nBriefing On Entry and Movement Procedures For International Students & Staff on the 13th of December 2021 (Monday)\, 11.00 a.m via Microsoft Teams online.\n\n\nFollow link: http://shorturl.at/esADK\n\nThank you
URL:https://pejtncaa.utem.edu.my/event/briefing-on-entry-and-movement-procedures-for-international-students-staff/
END:VEVENT
BEGIN:VEVENT
DTSTART;VALUE=DATE:20211209
DTEND;VALUE=DATE:20211213
DTSTAMP:20260420T140003
CREATED:20211210T023003Z
LAST-MODIFIED:20211210T023003Z
UID:1123-1639008000-1639353599@pejtncaa.utem.edu.my
SUMMARY:MAJLIS KONVOKESYEN KE-16 UTeM
DESCRIPTION:
URL:https://pejtncaa.utem.edu.my/event/majlis-konvokesyen-ke-16-utem/
END:VEVENT
BEGIN:VEVENT
DTSTART;TZID=Asia/Kuala_Lumpur:20210428T080000
DTEND;TZID=Asia/Kuala_Lumpur:20210428T170000
DTSTAMP:20260420T140003
CREATED:20210428T032608Z
LAST-MODIFIED:20221110T051442Z
UID:777-1619596800-1619629200@pejtncaa.utem.edu.my
SUMMARY:demo event
DESCRIPTION:
URL:https://pejtncaa.utem.edu.my/event/demo-event/
END:VEVENT
BEGIN:VEVENT
DTSTART;VALUE=DATE:20200108
DTEND;VALUE=DATE:20200110
DTSTAMP:20260420T140003
CREATED:20191010T044052Z
LAST-MODIFIED:20191010T044052Z
UID:649-1578441600-1578614399@pejtncaa.utem.edu.my
SUMMARY:UNIT PROMOSI DI KMTJ (TEKNIKAL JOHOR) 2020
DESCRIPTION:
URL:https://pejtncaa.utem.edu.my/event/unit-promosi-di-kmtj-teknikal-johor-2020/
LOCATION:KMTJ (TEKNIKAL JOHOR)
CATEGORIES:Unit Promosi
END:VEVENT
BEGIN:VEVENT
DTSTART;VALUE=DATE:20191124
DTEND;VALUE=DATE:20191126
DTSTAMP:20260420T140003
CREATED:20191010T044822Z
LAST-MODIFIED:20191010T044822Z
UID:664-1574553600-1574726399@pejtncaa.utem.edu.my
SUMMARY:UNIT PROMOSI DI KMP (PERLIS)
DESCRIPTION:
URL:https://pejtncaa.utem.edu.my/event/unit-promosi-di-kmp-perlis/
LOCATION:KMP (PERLIS)
CATEGORIES:Unit Promosi
END:VEVENT
BEGIN:VEVENT
DTSTART;VALUE=DATE:20191107
DTEND;VALUE=DATE:20191109
DTSTAMP:20260420T140003
CREATED:20191010T044543Z
LAST-MODIFIED:20191010T044543Z
UID:661-1573084800-1573257599@pejtncaa.utem.edu.my
SUMMARY:UNIT PROMOSI DI KMJ (JOHOR)
DESCRIPTION:
URL:https://pejtncaa.utem.edu.my/event/unit-promosi-di-kmj-johor/
LOCATION:KMJ (JOHOR)
CATEGORIES:Unit Promosi
END:VEVENT
BEGIN:VEVENT
DTSTART;VALUE=DATE:20191027
DTEND;VALUE=DATE:20191029
DTSTAMP:20260420T140003
CREATED:20191001T042254Z
LAST-MODIFIED:20191001T042254Z
UID:525-1572134400-1572307199@pejtncaa.utem.edu.my
SUMMARY:Deepavali 2019
DESCRIPTION:
URL:https://pejtncaa.utem.edu.my/event/deepavali-2019/
END:VEVENT
BEGIN:VEVENT
DTSTART;VALUE=DATE:20191027
DTEND;VALUE=DATE:20191029
DTSTAMP:20260420T140003
CREATED:20191001T042022Z
LAST-MODIFIED:20191001T042022Z
UID:523-1572134400-1572307199@pejtncaa.utem.edu.my
SUMMARY:Cuti Hari Deepavali 2019
DESCRIPTION:
URL:https://pejtncaa.utem.edu.my/event/cuti-hari-deepavali-2019/
END:VEVENT
BEGIN:VEVENT
DTSTART;VALUE=DATE:20191022
DTEND;VALUE=DATE:20191024
DTSTAMP:20260420T140003
CREATED:20191010T044926Z
LAST-MODIFIED:20191010T044926Z
UID:667-1571702400-1571875199@pejtncaa.utem.edu.my
SUMMARY:UNIT PROMOSI KMPk (PERAK)
DESCRIPTION:
URL:https://pejtncaa.utem.edu.my/event/unit-promosi-kmpk-perak/
LOCATION:KMPk (PERAK)
CATEGORIES:Unit Promosi
END:VEVENT
BEGIN:VEVENT
DTSTART;VALUE=DATE:20191011
DTEND;VALUE=DATE:20191012
DTSTAMP:20260420T140003
CREATED:20190815T071243Z
LAST-MODIFIED:20191002T085823Z
UID:479-1570752000-1570838399@pejtncaa.utem.edu.my
SUMMARY:Malacca Governor's Birthday
DESCRIPTION:
URL:https://pejtncaa.utem.edu.my/event/malacca-governors-birthday/
CATEGORIES:Melaka Holidays
ATTACH;FMTTYPE=image/png:https://pejtncaa.utem.edu.my/wp-content/uploads/2019/08/1200px-Flag_of_Malacca.svg.png
END:VEVENT
BEGIN:VEVENT
DTSTART;VALUE=DATE:20191011
DTEND;VALUE=DATE:20191012
DTSTAMP:20260420T140003
CREATED:20190815T062510Z
LAST-MODIFIED:20190815T071630Z
UID:476-1570752000-1570838399@pejtncaa.utem.edu.my
SUMMARY:Hari Jadi Yang di-Pertua Negeri Melaka
DESCRIPTION:
URL:https://pejtncaa.utem.edu.my/event/harijadi-yang-di-pertua-negeri-melaka/
LOCATION:Melaka\, Dataran Pahlawan\, Melaka\, State melaka\, 123456\, Malaysia
CATEGORIES:Cuti Melaka
ATTACH;FMTTYPE=image/png:https://pejtncaa.utem.edu.my/wp-content/uploads/2019/08/1200px-Flag_of_Malacca.svg-1.png
END:VEVENT
BEGIN:VEVENT
DTSTART;TZID=Asia/Kuala_Lumpur:20191005T070000
DTEND;TZID=Asia/Kuala_Lumpur:20191005T120000
DTSTAMP:20260420T140003
CREATED:20191004T084855Z
LAST-MODIFIED:20191004T084947Z
UID:545-1570258800-1570276800@pejtncaa.utem.edu.my
SUMMARY:ACADEMIA WALK 2019
DESCRIPTION:
URL:https://pejtncaa.utem.edu.my/event/academia-walk-2019-2/
END:VEVENT
BEGIN:VEVENT
DTSTART;TZID=Asia/Kuala_Lumpur:20191005T070000
DTEND;TZID=Asia/Kuala_Lumpur:20191005T120000
DTSTAMP:20260420T140003
CREATED:20191004T083120Z
LAST-MODIFIED:20191004T084354Z
UID:539-1570258800-1570276800@pejtncaa.utem.edu.my
SUMMARY:ACADEMIA WALK 2019
DESCRIPTION:  \n \nPra-pendaftaran “Academia Walk 2019” Peringkat UTeM\, 5.10.2019 Universiti Teknikal Malaysia Melaka – UTeM \nTerbuka kepada semua staf\, pelajar utem & komuniti luar. \nDaftar segera sebelum atau pada 4 Oktober 2019 \nPeserta walk-in dialu-alukan.
URL:https://pejtncaa.utem.edu.my/event/academia-walk-2019/
END:VEVENT
BEGIN:VEVENT
DTSTART;VALUE=DATE:20191003
DTEND;VALUE=DATE:20191005
DTSTAMP:20260420T140003
CREATED:20191010T044450Z
LAST-MODIFIED:20191010T044450Z
UID:658-1570060800-1570233599@pejtncaa.utem.edu.my
SUMMARY:UNIT PROMOSI DI KMPP (PULAU PINANG)
DESCRIPTION:
URL:https://pejtncaa.utem.edu.my/event/unit-promosi-di-kmpp-pulau-pinang/
LOCATION:KMPP (PULAU PINANG)
CATEGORIES:Unit Promosi
END:VEVENT
BEGIN:VEVENT
DTSTART;VALUE=DATE:20191002
DTEND;VALUE=DATE:20191004
DTSTAMP:20260420T140003
CREATED:20191010T044357Z
LAST-MODIFIED:20191010T044409Z
UID:655-1569974400-1570147199@pejtncaa.utem.edu.my
SUMMARY:UNIT PROMOSI DI KMTK (TEKNIKAL KEDAH)
DESCRIPTION:
URL:https://pejtncaa.utem.edu.my/event/unit-promosi-di-kmtk-teknikal-kedah/
LOCATION:KMTK (TEKNIKAL KEDAH)
CATEGORIES:Unit Promosi
END:VEVENT
BEGIN:VEVENT
DTSTART;VALUE=DATE:20190913
DTEND;VALUE=DATE:20190915
DTSTAMP:20260420T140003
CREATED:20191010T044302Z
LAST-MODIFIED:20191010T044302Z
UID:652-1568332800-1568505599@pejtncaa.utem.edu.my
SUMMARY:UNIT PROMOSI DI KMNS (NEGERI SEMBILAN)
DESCRIPTION:
URL:https://pejtncaa.utem.edu.my/event/unit-promosi-di-kmns-negeri-sembilan/
LOCATION:KMNS (NEGERI SEMBILAN)
CATEGORIES:Unit Promosi
END:VEVENT
BEGIN:VEVENT
DTSTART;VALUE=DATE:20190901
DTEND;VALUE=DATE:20190903
DTSTAMP:20260420T140003
CREATED:20190815T062310Z
LAST-MODIFIED:20190815T062310Z
UID:474-1567296000-1567468799@pejtncaa.utem.edu.my
SUMMARY:Awal Muharram (Maal Hijrah)
DESCRIPTION:
URL:https://pejtncaa.utem.edu.my/event/awal-muharram-maal-hijrah-2/
CATEGORIES:Public Holidays
END:VEVENT
BEGIN:VEVENT
DTSTART;VALUE=DATE:20190901
DTEND;VALUE=DATE:20190903
DTSTAMP:20260420T140003
CREATED:20190815T062148Z
LAST-MODIFIED:20190815T062148Z
UID:472-1567296000-1567468799@pejtncaa.utem.edu.my
SUMMARY:Awal Muharram (Maal Hijrah)
DESCRIPTION:
URL:https://pejtncaa.utem.edu.my/event/awal-muharram-maal-hijrah/
CATEGORIES:Cuti Umum
END:VEVENT
BEGIN:VEVENT
DTSTART;VALUE=DATE:20190831
DTEND;VALUE=DATE:20190901
DTSTAMP:20260420T140003
CREATED:20190815T050153Z
LAST-MODIFIED:20190815T061732Z
UID:465-1567209600-1567295999@pejtncaa.utem.edu.my
SUMMARY:National Day
DESCRIPTION:
URL:https://pejtncaa.utem.edu.my/event/national-day/
CATEGORIES:Public Holidays
END:VEVENT
BEGIN:VEVENT
DTSTART;VALUE=DATE:20190831
DTEND;VALUE=DATE:20190901
DTSTAMP:20260420T140003
CREATED:20190814T044910Z
LAST-MODIFIED:20190815T061911Z
UID:462-1567209600-1567295999@pejtncaa.utem.edu.my
SUMMARY:Hari Merdeka
DESCRIPTION:
URL:https://pejtncaa.utem.edu.my/event/hari-merdeka/
CATEGORIES:Cuti Umum
ATTACH;FMTTYPE=image/png:https://pejtncaa.utem.edu.my/wp-content/uploads/2019/08/2800px-Flag_of_Malaysia.svg.png
END:VEVENT
END:VCALENDAR