﻿BEGIN:VCALENDAR
VERSION:2.0
PRODID:-//PEJ. TNC(A&amp;A) UTeM - ECPv6.15.18//NONSGML v1.0//EN
CALSCALE:GREGORIAN
METHOD:PUBLISH
X-WR-CALNAME:PEJ. TNC(A&amp;A) UTeM
X-ORIGINAL-URL:https://pejtncaa.utem.edu.my
X-WR-CALDESC:Events for PEJ. TNC(A&amp;A) UTeM
REFRESH-INTERVAL;VALUE=DURATION:PT1H
X-Robots-Tag:noindex
X-PUBLISHED-TTL:PT1H
BEGIN:VTIMEZONE
TZID:Asia/Kuala_Lumpur
BEGIN:STANDARD
TZOFFSETFROM:+0800
TZOFFSETTO:+0800
TZNAME:+08
DTSTART:20210101T000000
END:STANDARD
END:VTIMEZONE
BEGIN:VEVENT
DTSTART;TZID=Asia/Kuala_Lumpur:20250109T150000
DTEND;TZID=Asia/Kuala_Lumpur:20250109T170000
DTSTAMP:20260420T050940
CREATED:20250109T030827Z
LAST-MODIFIED:20250109T030827Z
UID:2036-1736434800-1736442000@pejtncaa.utem.edu.my
SUMMARY:KUNJUNGAN LAWATAN DAN PERBINCANGAN OLEH PIHAK GERMAN MALAYSIAN INSTITUTE (GMI) KE UTeM
DESCRIPTION:KUNJUNGAN LAWATAN DAN PERBINCANGAN OLEH PIHAK GERMAN MALAYSIAN INSTITUTE (GMI) KE UTeM \n\nAdalah dimaklumkan pihak German Malaysian Institute (GMI) berhasrat untuk mengadakan perbincangan dan lawatan ke UTeM  mengikut ketetapan berikut : \n      Tarikh     :     9 Januari 2025 (Khamis) \n      Masa       :          3.00 petang \n      Tempat        :          Bilik Mesyuarat Utama\, Aras 5\, Bangunan Canselori \n      Agenda    :     - Perbincangan antara UTeM dan GMI \n                         - Lawatan ke Makmal
URL:https://pejtncaa.utem.edu.my/event/kunjungan-lawatan-dan-perbincangan-oleh-pihak-german-malaysian-institute-gmi-ke-utem/
END:VEVENT
BEGIN:VEVENT
DTSTART;TZID=Asia/Kuala_Lumpur:20250107T143000
DTEND;TZID=Asia/Kuala_Lumpur:20250107T170000
DTSTAMP:20260420T050940
CREATED:20250109T031056Z
LAST-MODIFIED:20250109T031056Z
UID:2038-1736260200-1736269200@pejtncaa.utem.edu.my
SUMMARY:PERBINCANGAN BERSAMA PIHAK DELEGASI UNIVERSITY OF NEW SOUTH WALES (UNSW)
DESCRIPTION:PERBINCANGAN BERSAMA PIHAK PIHAK DELEGASI UNIVERSITY OF NEW SOUTH WALES (UNSW)   \nDengan segala hormatnya perkara di atas dirujuk. Sehubungan dengan itu\, satu perbincangan bersama pihak delegasi UNSW bagi membincangkan penubuhan Program Foundation akan diadakan pada ketetapan seperti berikut;\n\nTarikh             :           7 Januari 2025 (Selasa)\nTempat           :           Bilik Mesyuarat LPU\, Tingkat 5\, Bangunan Canselori UTeM\n Masa              :           2.30 Petang
URL:https://pejtncaa.utem.edu.my/event/perbincangan-bersama-pihak-delegasi-university-of-new-south-wales-unsw/
END:VEVENT
BEGIN:VEVENT
DTSTART;VALUE=DATE:20220630
DTEND;VALUE=DATE:20220701
DTSTAMP:20260420T050940
CREATED:20220114T084418Z
LAST-MODIFIED:20220114T084418Z
UID:1236-1656547200-1656633599@pejtncaa.utem.edu.my
SUMMARY:MESYUARAT LPU
DESCRIPTION:
URL:https://pejtncaa.utem.edu.my/event/mesyuarat-lpu-3/
END:VEVENT
BEGIN:VEVENT
DTSTART;VALUE=DATE:20220629
DTEND;VALUE=DATE:20220630
DTSTAMP:20260420T050940
CREATED:20220114T084041Z
LAST-MODIFIED:20220114T084041Z
UID:1224-1656460800-1656547199@pejtncaa.utem.edu.my
SUMMARY:MESYUARAT SENAT UNIVERSITI
DESCRIPTION:
URL:https://pejtncaa.utem.edu.my/event/mesyuarat-senat-universiti-6/
END:VEVENT
BEGIN:VEVENT
DTSTART;TZID=Asia/Kuala_Lumpur:20220623T080000
DTEND;TZID=Asia/Kuala_Lumpur:20220623T170000
DTSTAMP:20260420T050940
CREATED:20220114T083657Z
LAST-MODIFIED:20220114T083657Z
UID:1212-1655971200-1656003600@pejtncaa.utem.edu.my
SUMMARY:MESYUARAT PRA SENAT
DESCRIPTION:
URL:https://pejtncaa.utem.edu.my/event/mesyuarat-pra-senat-6/
END:VEVENT
BEGIN:VEVENT
DTSTART;VALUE=DATE:20220609
DTEND;VALUE=DATE:20220610
DTSTAMP:20260420T050940
CREATED:20220114T083322Z
LAST-MODIFIED:20220114T083322Z
UID:1200-1654732800-1654819199@pejtncaa.utem.edu.my
SUMMARY:MESYUARAT JK TETAP SENAT PERANCANGAN AKADEMIK (JKTSPA)
DESCRIPTION:
URL:https://pejtncaa.utem.edu.my/event/mesyuarat-jk-tetap-senat-perancangan-akademik-jktspa-5/
END:VEVENT
BEGIN:VEVENT
DTSTART;VALUE=DATE:20220602
DTEND;VALUE=DATE:20220603
DTSTAMP:20260420T050940
CREATED:20220114T082612Z
LAST-MODIFIED:20220114T082612Z
UID:1186-1654128000-1654214399@pejtncaa.utem.edu.my
SUMMARY:MESYUARAT JK TETAP SENAT HAL EHWAL AKADEMIK (JKTSHEA)
DESCRIPTION:
URL:https://pejtncaa.utem.edu.my/event/mesyuarat-jk-tetap-senat-hal-ehwal-akademik-jktshea-6/
END:VEVENT
BEGIN:VEVENT
DTSTART;VALUE=DATE:20220531
DTEND;VALUE=DATE:20220601
DTSTAMP:20260420T050940
CREATED:20220114T084225Z
LAST-MODIFIED:20220114T084225Z
UID:1230-1653955200-1654041599@pejtncaa.utem.edu.my
SUMMARY:MESYUARAT JK TRANSFORMASI
DESCRIPTION:
URL:https://pejtncaa.utem.edu.my/event/mesyuarat-jk-transformasi-3/
END:VEVENT
BEGIN:VEVENT
DTSTART;VALUE=DATE:20220525
DTEND;VALUE=DATE:20220526
DTSTAMP:20260420T050940
CREATED:20220114T084019Z
LAST-MODIFIED:20220114T084019Z
UID:1222-1653436800-1653523199@pejtncaa.utem.edu.my
SUMMARY:MESYUARAT SENAT UNIVERSITI
DESCRIPTION:
URL:https://pejtncaa.utem.edu.my/event/mesyuarat-senat-universiti-5/
END:VEVENT
BEGIN:VEVENT
DTSTART;VALUE=DATE:20220519
DTEND;VALUE=DATE:20220520
DTSTAMP:20260420T050940
CREATED:20220114T083637Z
LAST-MODIFIED:20220114T083637Z
UID:1210-1652918400-1653004799@pejtncaa.utem.edu.my
SUMMARY:MESYUARAT PRA SENAT
DESCRIPTION:
URL:https://pejtncaa.utem.edu.my/event/mesyuarat-pra-senat-5/
END:VEVENT
BEGIN:VEVENT
DTSTART;VALUE=DATE:20220517
DTEND;VALUE=DATE:20220518
DTSTAMP:20260420T050940
CREATED:20220114T083250Z
LAST-MODIFIED:20220114T083250Z
UID:1198-1652745600-1652831999@pejtncaa.utem.edu.my
SUMMARY:MESYUARAT JK TETAP SENAT PERANCANGAN AKADEMIK (JKTSPA)
DESCRIPTION:
URL:https://pejtncaa.utem.edu.my/event/mesyuarat-jk-tetap-senat-perancangan-akademik-jktspa-4/
END:VEVENT
BEGIN:VEVENT
DTSTART;VALUE=DATE:20220512
DTEND;VALUE=DATE:20220513
DTSTAMP:20260420T050940
CREATED:20220114T082547Z
LAST-MODIFIED:20220114T082547Z
UID:1184-1652313600-1652399999@pejtncaa.utem.edu.my
SUMMARY:MESYUARAT JK TETAP SENAT HAL EHWAL AKADEMIK (JKTSHEA)
DESCRIPTION:
URL:https://pejtncaa.utem.edu.my/event/mesyuarat-jk-tetap-senat-hal-ehwal-akademik-jktshea-5/
END:VEVENT
BEGIN:VEVENT
DTSTART;VALUE=DATE:20220427
DTEND;VALUE=DATE:20220428
DTSTAMP:20260420T050940
CREATED:20220114T083936Z
LAST-MODIFIED:20220114T083957Z
UID:1220-1651017600-1651103999@pejtncaa.utem.edu.my
SUMMARY:MESYUARAT SENAT UNIVERSITI
DESCRIPTION:
URL:https://pejtncaa.utem.edu.my/event/mesyuarat-senat-universiti-4/
END:VEVENT
BEGIN:VEVENT
DTSTART;VALUE=DATE:20220421
DTEND;VALUE=DATE:20220422
DTSTAMP:20260420T050940
CREATED:20220114T084354Z
LAST-MODIFIED:20220114T084354Z
UID:1234-1650499200-1650585599@pejtncaa.utem.edu.my
SUMMARY:MESYUARAT LPU
DESCRIPTION:
URL:https://pejtncaa.utem.edu.my/event/mesyuarat-lpu-2/
END:VEVENT
BEGIN:VEVENT
DTSTART;VALUE=DATE:20220421
DTEND;VALUE=DATE:20220422
DTSTAMP:20260420T050940
CREATED:20220114T083614Z
LAST-MODIFIED:20220114T083614Z
UID:1208-1650499200-1650585599@pejtncaa.utem.edu.my
SUMMARY:MESYUARAT PRA SENAT
DESCRIPTION:
URL:https://pejtncaa.utem.edu.my/event/mesyuarat-pra-senat-4/
END:VEVENT
BEGIN:VEVENT
DTSTART;VALUE=DATE:20220413
DTEND;VALUE=DATE:20220414
DTSTAMP:20260420T050941
CREATED:20220114T083117Z
LAST-MODIFIED:20220114T083117Z
UID:1196-1649808000-1649894399@pejtncaa.utem.edu.my
SUMMARY:MESYUARAT JK TETAP SENAT PERANCANGAN AKADEMIK (JKTSPA)
DESCRIPTION:
URL:https://pejtncaa.utem.edu.my/event/mesyuarat-jk-tetap-senat-perancangan-akademik-jktspa-3/
END:VEVENT
BEGIN:VEVENT
DTSTART;VALUE=DATE:20220408
DTEND;VALUE=DATE:20220409
DTSTAMP:20260420T050941
CREATED:20220114T082518Z
LAST-MODIFIED:20220114T082518Z
UID:1182-1649376000-1649462399@pejtncaa.utem.edu.my
SUMMARY:MESYUARAT JK TETAP SENAT HAL EHWAL AKADEMIK (JKTSHEA)
DESCRIPTION:
URL:https://pejtncaa.utem.edu.my/event/mesyuarat-jk-tetap-senat-hal-ehwal-akademik-jktshea-4/
END:VEVENT
BEGIN:VEVENT
DTSTART;VALUE=DATE:20220329
DTEND;VALUE=DATE:20220330
DTSTAMP:20260420T050941
CREATED:20220114T084156Z
LAST-MODIFIED:20220114T084156Z
UID:1228-1648512000-1648598399@pejtncaa.utem.edu.my
SUMMARY:MESYUARAT JK TRANSFORMASI
DESCRIPTION:
URL:https://pejtncaa.utem.edu.my/event/mesyuarat-jk-transformasi-2/
END:VEVENT
BEGIN:VEVENT
DTSTART;VALUE=DATE:20220324
DTEND;VALUE=DATE:20220325
DTSTAMP:20260420T050941
CREATED:20220114T083913Z
LAST-MODIFIED:20220114T083913Z
UID:1218-1648080000-1648166399@pejtncaa.utem.edu.my
SUMMARY:MESYUARAT SENAT UNIVERSITI
DESCRIPTION:
URL:https://pejtncaa.utem.edu.my/event/mesyuarat-senat-universiti-3/
END:VEVENT
BEGIN:VEVENT
DTSTART;VALUE=DATE:20220324
DTEND;VALUE=DATE:20220325
DTSTAMP:20260420T050941
CREATED:20220114T083553Z
LAST-MODIFIED:20220114T083553Z
UID:1206-1648080000-1648166399@pejtncaa.utem.edu.my
SUMMARY:MESYUARAT PRA SENAT
DESCRIPTION:
URL:https://pejtncaa.utem.edu.my/event/mesyuarat-pra-senat-3/
END:VEVENT
BEGIN:VEVENT
DTSTART;VALUE=DATE:20220309
DTEND;VALUE=DATE:20220310
DTSTAMP:20260420T050941
CREATED:20220114T082933Z
LAST-MODIFIED:20220114T082933Z
UID:1193-1646784000-1646870399@pejtncaa.utem.edu.my
SUMMARY:MESYUARAT JK TETAP SENAT PERANCANGAN AKADEMIK (JKTSPA)
DESCRIPTION:
URL:https://pejtncaa.utem.edu.my/event/mesyuarat-jk-tetap-senat-perancangan-akademik-jktspa-2/
END:VEVENT
BEGIN:VEVENT
DTSTART;VALUE=DATE:20220303
DTEND;VALUE=DATE:20220304
DTSTAMP:20260420T050941
CREATED:20220114T082443Z
LAST-MODIFIED:20220114T082443Z
UID:1180-1646265600-1646351999@pejtncaa.utem.edu.my
SUMMARY:MESYUARAT JK TETAP SENAT HAL EHWAL AKADEMIK (JKTSHEA)
DESCRIPTION:
URL:https://pejtncaa.utem.edu.my/event/mesyuarat-jk-tetap-senat-hal-ehwal-akademik-jktshea-3/
END:VEVENT
BEGIN:VEVENT
DTSTART;VALUE=DATE:20220223
DTEND;VALUE=DATE:20220224
DTSTAMP:20260420T050941
CREATED:20220114T083842Z
LAST-MODIFIED:20220114T083842Z
UID:1216-1645574400-1645660799@pejtncaa.utem.edu.my
SUMMARY:MESYUARAT SENAT UNIVERSITI
DESCRIPTION:
URL:https://pejtncaa.utem.edu.my/event/mesyuarat-senat-universiti-2/
END:VEVENT
BEGIN:VEVENT
DTSTART;VALUE=DATE:20220217
DTEND;VALUE=DATE:20220218
DTSTAMP:20260420T050941
CREATED:20220114T083534Z
LAST-MODIFIED:20220114T083534Z
UID:1204-1645056000-1645142399@pejtncaa.utem.edu.my
SUMMARY:MESYUARAT PRA SENAT
DESCRIPTION:
URL:https://pejtncaa.utem.edu.my/event/mesyuarat-pra-senat-2/
END:VEVENT
BEGIN:VEVENT
DTSTART;VALUE=DATE:20220211
DTEND;VALUE=DATE:20220212
DTSTAMP:20260420T050941
CREATED:20220114T082817Z
LAST-MODIFIED:20220114T083040Z
UID:1190-1644537600-1644623999@pejtncaa.utem.edu.my
SUMMARY:MESYUARAT JK TETAP SENAT PERANCANGAN AKADEMIK (JKTSPA)
DESCRIPTION:
URL:https://pejtncaa.utem.edu.my/event/mesyuarat-jk-tetap-senat-hal-ehwal-akademik-jktshea-7/
END:VEVENT
BEGIN:VEVENT
DTSTART;VALUE=DATE:20220210
DTEND;VALUE=DATE:20220211
DTSTAMP:20260420T050941
CREATED:20220114T084334Z
LAST-MODIFIED:20220114T084334Z
UID:1232-1644451200-1644537599@pejtncaa.utem.edu.my
SUMMARY:MESYUARAT LPU
DESCRIPTION:
URL:https://pejtncaa.utem.edu.my/event/mesyuarat-lpu/
END:VEVENT
BEGIN:VEVENT
DTSTART;VALUE=DATE:20220207
DTEND;VALUE=DATE:20220208
DTSTAMP:20260420T050941
CREATED:20220114T082337Z
LAST-MODIFIED:20220114T082355Z
UID:1178-1644192000-1644278399@pejtncaa.utem.edu.my
SUMMARY:MESYUARAT JK TETAP SENAT HAL EHWAL AKADEMIK (JKTSHEA)
DESCRIPTION:
URL:https://pejtncaa.utem.edu.my/event/mesyuarat-jk-tetap-senat-hal-ehwal-akademik-jktshea-2/
END:VEVENT
BEGIN:VEVENT
DTSTART;VALUE=DATE:20220201
DTEND;VALUE=DATE:20220203
DTSTAMP:20260420T050941
CREATED:20220114T074713Z
LAST-MODIFIED:20220114T074713Z
UID:1167-1643673600-1643846399@pejtncaa.utem.edu.my
SUMMARY:TAHUN BARU CINA
DESCRIPTION:
URL:https://pejtncaa.utem.edu.my/event/tahun-baru-cina/
END:VEVENT
BEGIN:VEVENT
DTSTART;VALUE=DATE:20220126
DTEND;VALUE=DATE:20220127
DTSTAMP:20260420T050941
CREATED:20220114T083816Z
LAST-MODIFIED:20220114T083816Z
UID:1214-1643155200-1643241599@pejtncaa.utem.edu.my
SUMMARY:MESYUARAT SENAT UNIVERSITI
DESCRIPTION:
URL:https://pejtncaa.utem.edu.my/event/mesyuarat-senat-universiti/
END:VEVENT
BEGIN:VEVENT
DTSTART;VALUE=DATE:20220125
DTEND;VALUE=DATE:20220126
DTSTAMP:20260420T050941
CREATED:20220114T084137Z
LAST-MODIFIED:20220114T084137Z
UID:1226-1643068800-1643155199@pejtncaa.utem.edu.my
SUMMARY:MESYUARAT JK TRANSFORMASI
DESCRIPTION:
URL:https://pejtncaa.utem.edu.my/event/mesyuarat-jk-transformasi/
END:VEVENT
END:VCALENDAR