﻿BEGIN:VCALENDAR
VERSION:2.0
PRODID:-//PEJ. TNC(A&amp;A) UTeM - ECPv6.15.18//NONSGML v1.0//EN
CALSCALE:GREGORIAN
METHOD:PUBLISH
X-ORIGINAL-URL:https://pejtncaa.utem.edu.my
X-WR-CALDESC:Events for PEJ. TNC(A&amp;A) UTeM
REFRESH-INTERVAL;VALUE=DURATION:PT1H
X-Robots-Tag:noindex
X-PUBLISHED-TTL:PT1H
BEGIN:VTIMEZONE
TZID:Asia/Kuala_Lumpur
BEGIN:STANDARD
TZOFFSETFROM:+0800
TZOFFSETTO:+0800
TZNAME:+08
DTSTART:20240101T000000
END:STANDARD
END:VTIMEZONE
BEGIN:VEVENT
DTSTART;TZID=Asia/Kuala_Lumpur:20250211T090000
DTEND;TZID=Asia/Kuala_Lumpur:20250211T130000
DTSTAMP:20260424T222758
CREATED:20250122T040033Z
LAST-MODIFIED:20250122T040033Z
UID:2182-1739264400-1739278800@pejtncaa.utem.edu.my
SUMMARY:TAKWIM : MESYUARAT JKTSHEA BIL. 2/2025
DESCRIPTION:
URL:https://pejtncaa.utem.edu.my/event/takwim-mesyuarat-jktshea-bil-2-2025/
LOCATION:BILIK MESYUARAT TNCAA\, ARAS 4\, BANGUNAN CANSELORI\, MELAKA
END:VEVENT
BEGIN:VEVENT
DTSTART;TZID=Asia/Kuala_Lumpur:20250211T143000
DTEND;TZID=Asia/Kuala_Lumpur:20250211T170000
DTSTAMP:20260424T222758
CREATED:20250122T040146Z
LAST-MODIFIED:20250122T040146Z
UID:2184-1739284200-1739293200@pejtncaa.utem.edu.my
SUMMARY:MESYUARAT PENYELARASAN PENTADBIRAN BIL. 1/2025
DESCRIPTION:
URL:https://pejtncaa.utem.edu.my/event/mesyuarat-penyelarasan-pentadbiran-bil-1-2025/
LOCATION:BILIK MESYUARAT TNCAA\, ARAS 4\, BANGUNAN CANSELORI\, MELAKA
END:VEVENT
BEGIN:VEVENT
DTSTART;TZID=Asia/Kuala_Lumpur:20250213T090000
DTEND;TZID=Asia/Kuala_Lumpur:20250213T130000
DTSTAMP:20260424T222758
CREATED:20250122T040433Z
LAST-MODIFIED:20250122T040433Z
UID:2186-1739437200-1739451600@pejtncaa.utem.edu.my
SUMMARY:MESYUARAT JAWATANKUASA AKADEMIK DAN ANTARABANGSA MALAYSIAN TECHNICAL UNIVERSITY NETWORK (JKAA MTUN) BIL. 1 TAHUN 2025
DESCRIPTION:Dengan segala hormatnya perkara di atas adalah dirujuk. \n2.         Sukacita dimaklumkan bahawa pihak Sekretariat JKAA MTUN 2023-2025 menjemput YBhg. Prof./Prof. Madya/Tuan/Puan ke Mesyuarat JKAA MTUN Bil. 1/2025 yang akan diadakan seperti ketetapan berikut: \n            Tarikh        :         13 Februari 2025 (Khamis) \n            Masa         :         9:00 pagi hingga 1:00 tengahari \n            Lokasi      :         Dewan Senat Tun Abdul Razak\, \n                                         Bangunan Canseleri Tun Abdul Razak\, \n                                          Universiti Malaysia Pahang Al- Sultan Abdullah \n                                          26600 Pekan Pahang
URL:https://pejtncaa.utem.edu.my/event/mesyuarat-jawatankuasa-akademik-dan-antarabangsa-malaysian-technical-university-network-jkaa-mtun-bil-1-tahun-2025/
LOCATION:DEWAN SENAT TUN RAZAK\, BANGUNAN CANSELORI tun abdul razak\, univ malaysia pahang al-sultan abdullah\, PEKAN\, 26600\, Malaysia
END:VEVENT
BEGIN:VEVENT
DTSTART;TZID=Asia/Kuala_Lumpur:20250214T150000
DTEND;TZID=Asia/Kuala_Lumpur:20250214T170000
DTSTAMP:20260424T222758
CREATED:20250122T040715Z
LAST-MODIFIED:20250122T040715Z
UID:2190-1739545200-1739552400@pejtncaa.utem.edu.my
SUMMARY:Majlis Menandatangani MoU Antara UTeM & Federation of Malaysia Manufactures (FMM)
DESCRIPTION:
URL:https://pejtncaa.utem.edu.my/event/majlis-menandatangani-mou-antara-utem-federation-of-malaysia-manufactures-fmm/
LOCATION:BILIK MESYUARAT UTAMA\, BANGUNAN CANSELORI\, BANGUNAN CANSELORI UTEM\, DURIAN TUNGGAL\, MELAKA\, 76100\, Malaysia
END:VEVENT
BEGIN:VEVENT
DTSTART;TZID=Asia/Kuala_Lumpur:20250218T090000
DTEND;TZID=Asia/Kuala_Lumpur:20250218T130000
DTSTAMP:20260424T222758
CREATED:20250122T040820Z
LAST-MODIFIED:20250122T040820Z
UID:2193-1739869200-1739883600@pejtncaa.utem.edu.my
SUMMARY:TAKWIM : MESYUARAT JKTSPA BIL. 2/2024
DESCRIPTION:
URL:https://pejtncaa.utem.edu.my/event/takwim-mesyuarat-jktspa-bil-2-2024/
LOCATION:BILIK MESYUARAT TNCAA\, ARAS 4\, BANGUNAN CANSELORI\, MELAKA
END:VEVENT
BEGIN:VEVENT
DTSTART;VALUE=DATE:20250220
DTEND;VALUE=DATE:20250221
DTSTAMP:20260424T222758
CREATED:20250122T040911Z
LAST-MODIFIED:20250122T040911Z
UID:2195-1740009600-1740095999@pejtncaa.utem.edu.my
SUMMARY:CUTI HARI PERISYTIHARAN MELAKA BANDARAYA BERSEJARAH
DESCRIPTION:
URL:https://pejtncaa.utem.edu.my/event/cuti-hari-perisytiharan-melaka-bandaraya-bersejarah/
END:VEVENT
BEGIN:VEVENT
DTSTART;TZID=Asia/Kuala_Lumpur:20250224T130000
DTEND;TZID=Asia/Kuala_Lumpur:20250224T170000
DTSTAMP:20260424T222758
CREATED:20250122T041012Z
LAST-MODIFIED:20250122T041012Z
UID:2197-1740402000-1740416400@pejtncaa.utem.edu.my
SUMMARY:TENTATIF TARIKH : PENGANJURAN THE EXPERT TALK SERIES (TeXT) 1/2025 : THE SURVIVAL OF TEACHING & LEARNING IN HIGHER EDUCATION IN THE FURUTE ANJURAN CAES
DESCRIPTION:
URL:https://pejtncaa.utem.edu.my/event/tentatif-tarikh-penganjuran-the-expert-talk-series-text-1-2025-the-survival-of-teaching-learning-in-higher-education-in-the-furute-anjuran-caes/
END:VEVENT
BEGIN:VEVENT
DTSTART;VALUE=DATE:20260321
DTEND;VALUE=DATE:20260325
DTSTAMP:20260424T222758
CREATED:20260331T090659Z
LAST-MODIFIED:20260331T090659Z
UID:2438-1774051200-1774396799@pejtncaa.utem.edu.my
SUMMARY:CUTI RAYA AIDILFITRI
DESCRIPTION:  \n 
URL:https://pejtncaa.utem.edu.my/event/cuti-raya-aidilfitri/
CATEGORIES:Cuti Umum
END:VEVENT
BEGIN:VEVENT
DTSTART;TZID=Asia/Kuala_Lumpur:20260403T080000
DTEND;TZID=Asia/Kuala_Lumpur:20260403T140000
DTSTAMP:20260424T222758
CREATED:20260331T090517Z
LAST-MODIFIED:20260401T005826Z
UID:2436-1775203200-1775224800@pejtncaa.utem.edu.my
SUMMARY:MAJLIS APRESIASI DAN RAMAH MESRA
DESCRIPTION:
URL:https://pejtncaa.utem.edu.my/event/majlis-apresiasi-dan-ramah-mesra/
CATEGORIES:TNCAA
END:VEVENT
BEGIN:VEVENT
DTSTART;VALUE=DATE:20260501
DTEND;VALUE=DATE:20260502
DTSTAMP:20260424T222758
CREATED:20260401T003536Z
LAST-MODIFIED:20260401T003536Z
UID:2441-1777593600-1777679999@pejtncaa.utem.edu.my
SUMMARY:HARI PEKERJA
DESCRIPTION:
URL:https://pejtncaa.utem.edu.my/event/hari-pekerja/
CATEGORIES:Cuti Umum
END:VEVENT
BEGIN:VEVENT
DTSTART;VALUE=DATE:20260527
DTEND;VALUE=DATE:20260528
DTSTAMP:20260424T222758
CREATED:20260401T003605Z
LAST-MODIFIED:20260401T003605Z
UID:2443-1779840000-1779926399@pejtncaa.utem.edu.my
SUMMARY:HARI RAYA QURBAN
DESCRIPTION:
URL:https://pejtncaa.utem.edu.my/event/hari-raya-qurban/
CATEGORIES:Cuti Umum
END:VEVENT
BEGIN:VEVENT
DTSTART;VALUE=DATE:20260531
DTEND;VALUE=DATE:20260602
DTSTAMP:20260424T222758
CREATED:20260401T003705Z
LAST-MODIFIED:20260401T003705Z
UID:2445-1780185600-1780358399@pejtncaa.utem.edu.my
SUMMARY:HARI WESAK
DESCRIPTION:
URL:https://pejtncaa.utem.edu.my/event/hari-wesak/
CATEGORIES:Cuti Umum
END:VEVENT
BEGIN:VEVENT
DTSTART;VALUE=DATE:20260601
DTEND;VALUE=DATE:20260602
DTSTAMP:20260424T222758
CREATED:20260401T003730Z
LAST-MODIFIED:20260401T003730Z
UID:2447-1780272000-1780358399@pejtncaa.utem.edu.my
SUMMARY:HARI KEPUTERAAN YDPA
DESCRIPTION:
URL:https://pejtncaa.utem.edu.my/event/hari-keputeraan-ydpa/
CATEGORIES:Cuti Umum
END:VEVENT
BEGIN:VEVENT
DTSTART;VALUE=DATE:20260617
DTEND;VALUE=DATE:20260618
DTSTAMP:20260424T222758
CREATED:20260401T003831Z
LAST-MODIFIED:20260401T003831Z
UID:2449-1781654400-1781740799@pejtncaa.utem.edu.my
SUMMARY:AWAL MUHARRAM (MAAL HIJRAH 1448H)
DESCRIPTION:
URL:https://pejtncaa.utem.edu.my/event/awal-muharram-maal-hijrah-1448h/
CATEGORIES:Cuti Umum
END:VEVENT
END:VCALENDAR