﻿BEGIN:VCALENDAR
VERSION:2.0
PRODID:-//PEJ. TNC(A&amp;A) UTeM - ECPv6.15.18//NONSGML v1.0//EN
CALSCALE:GREGORIAN
METHOD:PUBLISH
X-WR-CALNAME:PEJ. TNC(A&amp;A) UTeM
X-ORIGINAL-URL:https://pejtncaa.utem.edu.my
X-WR-CALDESC:Events for PEJ. TNC(A&amp;A) UTeM
REFRESH-INTERVAL;VALUE=DURATION:PT1H
X-Robots-Tag:noindex
X-PUBLISHED-TTL:PT1H
BEGIN:VTIMEZONE
TZID:Asia/Kuala_Lumpur
BEGIN:STANDARD
TZOFFSETFROM:+0800
TZOFFSETTO:+0800
TZNAME:+08
DTSTART:20180101T000000
END:STANDARD
END:VTIMEZONE
BEGIN:VEVENT
DTSTART;VALUE=DATE:20260321
DTEND;VALUE=DATE:20260325
DTSTAMP:20260420T020728
CREATED:20260331T090659Z
LAST-MODIFIED:20260331T090659Z
UID:2438-1774051200-1774396799@pejtncaa.utem.edu.my
SUMMARY:CUTI RAYA AIDILFITRI
DESCRIPTION:  \n 
URL:https://pejtncaa.utem.edu.my/event/cuti-raya-aidilfitri/
CATEGORIES:Cuti Umum
END:VEVENT
BEGIN:VEVENT
DTSTART;VALUE=DATE:20190901
DTEND;VALUE=DATE:20190903
DTSTAMP:20260420T020728
CREATED:20190815T062148Z
LAST-MODIFIED:20190815T062148Z
UID:472-1567296000-1567468799@pejtncaa.utem.edu.my
SUMMARY:Awal Muharram (Maal Hijrah)
DESCRIPTION:
URL:https://pejtncaa.utem.edu.my/event/awal-muharram-maal-hijrah/
CATEGORIES:Cuti Umum
END:VEVENT
BEGIN:VEVENT
DTSTART;VALUE=DATE:20190831
DTEND;VALUE=DATE:20190901
DTSTAMP:20260420T020728
CREATED:20190814T044910Z
LAST-MODIFIED:20190815T061911Z
UID:462-1567209600-1567295999@pejtncaa.utem.edu.my
SUMMARY:Hari Merdeka
DESCRIPTION:
URL:https://pejtncaa.utem.edu.my/event/hari-merdeka/
CATEGORIES:Cuti Umum
ATTACH;FMTTYPE=image/png:https://pejtncaa.utem.edu.my/wp-content/uploads/2019/08/2800px-Flag_of_Malaysia.svg.png
END:VEVENT
END:VCALENDAR