﻿BEGIN:VCALENDAR
VERSION:2.0
PRODID:-//PEJ. TNC(A&amp;A) UTeM - ECPv6.15.18//NONSGML v1.0//EN
CALSCALE:GREGORIAN
METHOD:PUBLISH
X-WR-CALNAME:PEJ. TNC(A&amp;A) UTeM
X-ORIGINAL-URL:https://pejtncaa.utem.edu.my
X-WR-CALDESC:Events for PEJ. TNC(A&amp;A) UTeM
REFRESH-INTERVAL;VALUE=DURATION:PT1H
X-Robots-Tag:noindex
X-PUBLISHED-TTL:PT1H
BEGIN:VTIMEZONE
TZID:Asia/Kuala_Lumpur
BEGIN:STANDARD
TZOFFSETFROM:+0800
TZOFFSETTO:+0800
TZNAME:+08
DTSTART:20240101T000000
END:STANDARD
END:VTIMEZONE
BEGIN:VEVENT
DTSTART;TZID=Asia/Kuala_Lumpur:20250213T090000
DTEND;TZID=Asia/Kuala_Lumpur:20250213T130000
DTSTAMP:20260425T003142
CREATED:20250122T040433Z
LAST-MODIFIED:20250122T040433Z
UID:2186-1739437200-1739451600@pejtncaa.utem.edu.my
SUMMARY:MESYUARAT JAWATANKUASA AKADEMIK DAN ANTARABANGSA MALAYSIAN TECHNICAL UNIVERSITY NETWORK (JKAA MTUN) BIL. 1 TAHUN 2025
DESCRIPTION:Dengan segala hormatnya perkara di atas adalah dirujuk. \n2.         Sukacita dimaklumkan bahawa pihak Sekretariat JKAA MTUN 2023-2025 menjemput YBhg. Prof./Prof. Madya/Tuan/Puan ke Mesyuarat JKAA MTUN Bil. 1/2025 yang akan diadakan seperti ketetapan berikut: \n            Tarikh        :         13 Februari 2025 (Khamis) \n            Masa         :         9:00 pagi hingga 1:00 tengahari \n            Lokasi      :         Dewan Senat Tun Abdul Razak\, \n                                         Bangunan Canseleri Tun Abdul Razak\, \n                                          Universiti Malaysia Pahang Al- Sultan Abdullah \n                                          26600 Pekan Pahang
URL:https://pejtncaa.utem.edu.my/event/mesyuarat-jawatankuasa-akademik-dan-antarabangsa-malaysian-technical-university-network-jkaa-mtun-bil-1-tahun-2025/
LOCATION:DEWAN SENAT TUN RAZAK\, BANGUNAN CANSELORI tun abdul razak\, univ malaysia pahang al-sultan abdullah\, PEKAN\, 26600\, Malaysia
END:VEVENT
END:VCALENDAR